{"text_format":"3","workbook":"xlsx","n_sheets":1,"sheets":["11 февраля "],"not_rendered":{"external_links":3},"read":"whole","date_system":"1900"}

{"sheet":"11 февраля ","index":0,"n_rows":31,"n_cols":14,"rows_kept":31,"merged":[[7,3,7,7],[9,3,9,7],[28,3,28,7],[29,3,29,7],[38,2,38,6],[46,2,46,6],[48,2,48,6],[49,2,49,6],[50,2,50,6],[51,2,51,6],[52,2,52,6],[53,2,53,6],[54,2,54,6],[55,2,55,6],[56,2,56,6],[57,2,57,6],[58,2,58,6],[59,2,59,6],[60,2,60,6],[61,2,61,6],[63,2,63,6],[64,2,64,6],[67,2,67,6],[68,2,68,6],[72,2,72,6],[73,2,73,6],[74,2,74,6]]}
[{"$nulls":9},"Утверждаю:"]
[{"$nulls":9},"Директор школы",null,null,"Н.П.Семенов"]
[]
[{"$nulls":5},"МЕНЮ ДНЯ ",{"$nulls":5},{"$f":"'[1]8'!$B$1","v":11},"февраль","2026 год."]
[]
[{"$nulls":4},"МБОУ\"ПАВЛОВСКАЯ СОШ\""]
[8]
["ПРИЕМ","РАЗДЕЛ","№ РЕЦ.","БЛЮДО",{"$nulls":4},"ВЫХОД","ЦЕНА","КАЛОРИЙ","БЕЛКИ","ЖИРЫ","УГЛЕВО"]
["ПИЩИ",{"$nulls":7},"г",null,"НОСТЬ",null,null,"ДЫ"]
[null,"ОВЗ",null,"7-11 лет"]
["ЗАВТРАК",null,93,{"$f":"'[2]8'!$B$7","v":"СУП МОЛОЧНЫЙС МАКАР,ИЗД,"},{"$nulls":4},200,{"$f":"'[2]8'!$BK$7","v":{"v":16.922734,"d":"16.92"}},147.6,6.05,5.6,18.25]
[null,null,"221№324",{"$f":"'[2]8'!$B$8","v":"КИСЕЛЬ"},{"$nulls":4},200,{"$f":"'[2]8'!$BK$8","v":{"v":4.34966,"d":"4.35"}},76,0,0,20]
[null,null,"№8",{"$f":"'[2]8'!$B$9","v":"БАТОН "},{"$nulls":4},30,{"$f":"'[2]8'!$BK$9","v":{"v":3.5142,"d":"3.51"}},85.7,2.4,0.8,16.7]
[{"$nulls":3},"ИТОГО",{"$nulls":4},{"$f":"SUM(I11:I13)","v":430},{"$f":"SUM(J11:J13)","v":{"v":24.786594,"d":"24.79"}},{"$f":"SUM(K11:K13)","v":309.3},{"$f":"SUM(L11:L13)","v":8.45},{"$f":"SUM(M11:M13)","v":6.4},{"$f":"SUM(N11:N13)","v":54.95}]
[{"$nulls":3},"от 12 и старше лет"]
[null,null,93,{"$f":"'[2]8'!$B$21","v":"СУП МОЛОЧНЫЙС МАКАР,ИЗД,"},{"$nulls":4},200,{"$f":"'[2]8'!$BK$21","v":{"v":16.922734,"d":"16.92"}},147.6,6.05,5.6,18.25]
[null,null,"221№324",{"$f":"'[2]8'!$B$22","v":"КИСЕЛЬ"},{"$nulls":4},200,{"$f":"'[2]8'!$BK$22","v":{"v":4.34966,"d":"4.35"}},76,0,0,20]
[null,null,"№8",{"$f":"'[2]8'!$B$23","v":"БАТОН "},{"$nulls":4},30,{"$f":"'[2]8'!$BK$23","v":{"v":3.5142,"d":"3.51"}},85.7,2.4,0.8,16.7]
[{"$nulls":3},"ИТОГО",{"$nulls":4},{"$f":"SUM(I16:I18)","v":430},{"$f":"SUM(J16:J18)","v":{"v":24.786594,"d":"24.79"}},{"$f":"SUM(K16:K18)","v":309.3},{"$f":"SUM(L16:L18)","v":8.45},{"$f":"SUM(M16:M18)","v":6.4},{"$f":"SUM(N16:N18)","v":54.95}]
[null,"5-11 класс"]
["ОБЕД",null,null,"от 12 и старше лет"]
[null,null,"№22",{"$f":"'[1]8'!$B$21","v":"САЛАТ ВИТАМИННЫЙ"},{"$nulls":4},100,{"$f":"'[1]8'!$BK$21","v":{"v":8.81927,"d":"8.82"}},88.3,1.5,4.5,27]
[null,null,"83№63(1)",{"$f":"'[1]8'!$B$22","v":"СУП КАТРТОФЕЛЬНЫЙ С РИСОВОЙ КРУПОЙ"},{"$nulls":4},250,{"$f":"'[1]8'!$BK$22","v":{"v":3.60307,"d":"3.60"}},113,2.6,2.1,19.3]
[null,null,"180№135(1)",{"$f":"'[1]8'!$B$23","v":"БИТОЧКИ РУБ,ИЗ МЯСА ПТИЦЫ ПАР,"},{"$nulls":4},120,{"$f":"'[1]8'!$BK$23","v":{"v":32.642812,"d":"32.64"}},245,16.3,15.58,8.9]
[null,null,"112№227(2)",{"$f":"'[1]8'!$B$24","v":"МАКАРОНЫ ОТВАРНЫЕ"},{"$nulls":4},180,{"$f":"'[1]8'!$BK$24","v":{"v":9.32079,"d":"9.32"}},233,6.5,4.4,40]
[null,null,"207№310",{"$f":"'[1]8'!$B$25","v":"КОМПОТ ИЗ СУХОФРУКТОВ"},{"$nulls":4},200,{"$f":"'[1]8'!$BK$25","v":{"v":4.8088,"d":"4.81"}},123,0.5,0.1,30.9]
[{"$nulls":3},{"$f":"'[1]8'!$B$26","v":"ХЛЕБ"},{"$nulls":4},50,{"$f":"'[1]8'!$BK$26","v":3.25},108.6,3.96,0.72,1.38]
[null,null,"№7",{"$f":"'[3]8'!$B$27","v":0},{"$nulls":5},{"$f":"'[3]8'!$BK$27","v":{"v":0,"d":"0.00"}},108.6,3.96,0.72,1.38]
[{"$nulls":3},{"$f":"'[3]6'!$B$28","v":0},{"$nulls":5},{"$f":"'[3]3'!$BK$28","v":{"v":0,"d":"0.00"}}]
[{"$nulls":3},"ИТОГО",{"$nulls":4},{"$f":"SUM(I22:I29)","v":900},{"$f":"SUM(J22:J29)","v":{"v":62.444742,"d":"62.44"}},{"$f":"SUM(K21:K29)","v":1019.5},{"$f":"SUM(L21:L29)","v":35.32},{"$f":"SUM(M21:M29)","v":28.12},{"$f":"SUM(N21:N29)","v":128.86}]
[{"$nulls":3},"Составил                Агеева Г.Н.               ",{"$nulls":7},"Повар                   Фролова Л.Н.               "]