{"text_format":"3","workbook":"xlsx","n_sheets":1,"sheets":["29 декабря"],"not_rendered":{"external_links":2},"read":"whole","date_system":"1900"}

{"sheet":"29 декабря","index":0,"n_rows":31,"n_cols":13,"rows_kept":31,"merged":[[7,2,7,6],[9,2,9,6],[10,2,10,6],[11,2,11,6],[12,2,12,6],[13,2,13,6],[14,2,14,6],[15,2,15,6],[16,2,16,6],[17,2,17,6],[18,2,18,6],[19,2,19,6],[20,2,20,6],[21,2,21,6],[22,2,22,6],[24,2,24,6],[25,2,25,6],[28,2,28,6],[29,2,29,6],[37,3,37,7]]}
[{"$nulls":8},"Утверждаю:"]
[{"$nulls":8},"Директор школы",null,null,"Н.П.Семенов"]
[]
[{"$nulls":4},"МЕНЮ ДНЯ ",{"$nulls":5},{"$f":"'[1]21'!$B$1","v":29},"декабрь","2025 год."]
[]
[{"$nulls":3},"МБОУ\"ПАВЛОВСКАЯ СОШ\""]
[20]
["РАЗДЕЛ","№ РЕЦ.","БЛЮДО",{"$nulls":4},"ВЫХОД","ЦЕНА","КАЛОРИЙ","БЕЛКИ","ЖИРЫ","УГЛЕВО"]
[{"$nulls":7},"г",null,"НОСТЬ",null,null,"ДЫ"]
["ОВЗ",null,"7-11 лет"]
[null,"89№208",{"$f":"'[2]21'!$B$7","v":"КАША МАННАЯ МОЛОЧНАЯ"},{"$nulls":4},200,{"$f":"'[2]21'!$BL$7","v":{"v":15.226754,"d":"15.23"}},246.67,7.44,8.44,36.22]
[null,"201№304",{"$f":"'[2]21'!$B$8","v":"БАТОН  "},{"$nulls":4},30,{"$f":"'[2]21'!$BL$8","v":{"v":2.7429,"d":"2.74"}},94,2.9,2.8,18.5]
[null,"№8",{"$f":"'[2]21'!$B$9","v":"ЧАЙ"},{"$nulls":4},200,{"$f":"'[2]21'!$BL$9","v":{"v":1.13949,"d":"1.14"}},85.7,2.4,0.8,16.7]
[null,null,"ИТОГО",{"$nulls":4},{"$f":"SUM(H11:H13)","v":430},{"$f":"SUM(I11:I13)","v":{"v":19.109144,"d":"19.11"}}]
[null,null,"от 12 и старше лет",{"$nulls":6},{"$f":"SUM(J11:J14)","v":{"v":426.37,"d":"426"}},{"$f":"SUM(K12:K14)","v":{"v":5.3,"d":"5"}},{"$f":"SUM(L11:L14)","v":{"v":12.04,"d":"12"}},{"$f":"SUM(M11:M14)","v":71.42}]
[null,"89№208",{"$f":"C11","v":"КАША МАННАЯ МОЛОЧНАЯ"},{"$nulls":4},200,{"$f":"'[2]21'!$BL$22","v":{"v":19.7065224,"d":"19.71"}},246.67,7.44,8.44,36.22]
[null,"201№304",{"$f":"C12","v":"БАТОН  "},{"$nulls":4},30,{"$f":"'[2]21'!$BL$23","v":{"v":3.5145,"d":"3.51"}},94,2.9,2.8,18.5]
[null,"№8",{"$f":"C13","v":"ЧАЙ"},{"$nulls":4},200,{"$f":"'[2]21'!$BL$24","v":{"v":1.28494,"d":"1.28"}},85.7,2.4,0.8,16.7]
[null,null,"ИТОГО",{"$nulls":4},{"$f":"SUM(H16:H18)","v":430},{"$f":"SUM(I16:I18)","v":{"v":24.5059624,"d":"24.51"}},{"$f":"SUM(J17:J18)","v":179.7},{"$f":"SUM(K17:K18)","v":5.3},{"$f":"SUM(L17:L18)","v":3.6},{"$f":"SUM(M17:M18)","v":{"v":35.2,"d":"35.20"}}]
["5-11 класс"]
[null,null,"от 12 и старше лет"]
[null,"№24.01",{"$f":"'[1]21'!$B$21","v":"САЛАТ ИЗ БЕЛОКАЧАННОЙ КАПУСТЫ"},{"$nulls":4},100,{"$f":"'[1]21'!$BK$21","v":{"v":6.3452,"d":"6.35"}},null,2,9,8.6]
[null,206,{"$f":"'[1]21'!$B$22","v":"СУП КАРТОФЕЛЬНЫЙ С ГОРОХОМ "},{"$nulls":4},250,{"$f":"'[1]21'!$BK$22","v":{"v":5.471459,"d":"5.47"}},{"$f":"E23","v":0},{"$f":"F23","v":0},{"$f":"G23","v":0},{"$f":"H23","v":250}]
[null,"№16",{"$f":"'[1]21'!$B$23","v":"ЖАРКОЕ ПО ДОМАШНЕМУ"},{"$nulls":4},200,{"$f":"'[1]21'!$BK$23","v":{"v":43.761445,"d":"43.76"}},88.12,14.1,3.7,2.66]
[null,"№679",{"$f":"'[1]21'!$B$24","v":0},{"$nulls":5},{"$f":"'[1]21'!$BK$24","v":{"v":0,"d":"0.00"}},276,8.95,6.73,43]
[null,"207№310",{"$f":"'[1]21'!$B$25","v":"КОМПОТ ИЗ СУХОФРУКТОВ"},{"$nulls":4},200,{"$f":"'[1]21'!$BK$25","v":{"v":4.755,"d":"4.76"}},123,0.5,0.1,30.9]
[null,"№7",{"$f":"'[1]10'!$B$26","v":"ХЛЕБ"},{"$nulls":4},50,{"$f":"'[1]21'!$BK$26","v":3.25},108.6,3.96,0.72,1.38]
[null,null,{"$f":"'[1]10'!$B$27","v":0},{"$nulls":5},{"$f":"'[1]10'!$BK$27","v":{"v":0,"d":"0.00"}}]
[null,null,{"$f":"'[1]6'!$B$28","v":0},{"$nulls":5},{"$f":"'[1]3'!$BK$28","v":{"v":0,"d":"0.00"}}]
[null,null,"ИТОГО",{"$nulls":4},{"$f":"SUM(H22:H29)","v":800},{"$f":"SUM(I22:I29)","v":{"v":63.583104,"d":"63.58"}},{"$f":"SUM(J22:J29)","v":595.72},{"$f":"SUM(K22:K29)","v":29.51},{"$f":"SUM(L22:L29)","v":20.25},{"$f":"SUM(M22:M29)","v":336.54}]
[null,null,"Составил                Агеева Г.Н.               ",{"$nulls":7},"Повар                   Фролова Л.Н.               "]